BEGIN:VCALENDAR
VERSION:2.0
PRODID:-//SOZIAL. GERECHT. FÜR ALLE. - ECPv4.6.14.1//NONSGML v1.0//EN
CALSCALE:GREGORIAN
METHOD:PUBLISH
X-WR-CALNAME:SOZIAL. GERECHT. FÜR ALLE.
X-ORIGINAL-URL:http://wahlen.linke-blogs.de
X-WR-CALDESC:Veranstaltungen für SOZIAL. GERECHT. FÜR ALLE.
BEGIN:VEVENT
DTSTART;TZID=Europe/Berlin:20170914T170000
DTEND;TZID=Europe/Berlin:20170914T170000
DTSTAMP:20260422T121948
CREATED:20170907T115147Z
LAST-MODIFIED:20170907T115147Z
UID:1616-1505408400-1505408400@wahlen.linke-blogs.de
SUMMARY:"Wo drückt der Schuh in Erkner?"
DESCRIPTION:Der Bundestagsabgeordnete und Direktkandidat der Partei DIE LINKE im Bundestagswahlkreis 63\, Thomas Nord\, lädt am Donnerstag\, 14. September 2017\, zum Grillabend nach Erkner ein. Unter dem Motto “Wo drückt der Schuh in Erkner?” möchte er dabei bei Bratwurst und Freibier mit interessierten Bürgerinnen und Bürgern ins Gespräch kommen. Die Veranstaltung findet bei der Gesellschaft für Arbeit und Soziales e. V. (GefAS) im Fichtenauer Weg 44/53 statt und beginnt um 17 Uhr. Die GefAS wird an diesem Abend zugleich Ehrenamtliche für ihre geleistete Arbeit auszeichnen. \n
URL:http://wahlen.linke-blogs.de/event/wo-drueckt-der-schuh-in-erkner-2/
LOCATION:Fichtenauer Weg 44/53\, Erkner\, 15537\, Deutschland
END:VEVENT
END:VCALENDAR