BEGIN:VCALENDAR
VERSION:2.0
PRODID:-//SOZIAL. GERECHT. FÜR ALLE. - ECPv4.6.14.1//NONSGML v1.0//EN
CALSCALE:GREGORIAN
METHOD:PUBLISH
X-WR-CALNAME:SOZIAL. GERECHT. FÜR ALLE.
X-ORIGINAL-URL:http://wahlen.linke-blogs.de
X-WR-CALDESC:Veranstaltungen für SOZIAL. GERECHT. FÜR ALLE.
BEGIN:VEVENT
DTSTART;TZID=Europe/Berlin:20170921T110000
DTEND;TZID=Europe/Berlin:20170921T130000
DTSTAMP:20260422T100320
CREATED:20170413T113110Z
LAST-MODIFIED:20170828T135712Z
UID:213-1505991600-1505998800@wahlen.linke-blogs.de
SUMMARY:Wahlkampftruck in Cottbus
DESCRIPTION:DIE LINKE ist im Wahlkampf unterwegs mit dem roten Truck und macht am 21. September 2017 Halt in Cottbus.  Mit dabei sind Dietmar Bartsch\, Fraktionsvorsitzender der LINKEN im Bundestag\, Bundesgeschäftsführer Matthias Höhn\, unsere Brandenburger Spitzenkandidatin Kirsten Tackmann und Birgit Kaufhold\, Direktkandidatin der LINKEN für Cottbus und den Landkreis Spree-Neiße. \n
URL:http://wahlen.linke-blogs.de/event/wahlkampftruck-in-cottbus/
LOCATION:Altmarkt\, Cottbus\, 03046\, Deutschland
END:VEVENT
END:VCALENDAR