BEGIN:VCALENDAR
VERSION:2.0
PRODID:-//SOZIAL. GERECHT. FÜR ALLE. - ECPv4.6.14.1//NONSGML v1.0//EN
CALSCALE:GREGORIAN
METHOD:PUBLISH
X-WR-CALNAME:SOZIAL. GERECHT. FÜR ALLE.
X-ORIGINAL-URL:http://wahlen.linke-blogs.de
X-WR-CALDESC:Veranstaltungen für SOZIAL. GERECHT. FÜR ALLE.
BEGIN:VEVENT
DTSTART;TZID=Europe/Berlin:20170923T100000
DTEND;TZID=Europe/Berlin:20170923T130000
DTSTAMP:20260422T133359
CREATED:20170413T113512Z
LAST-MODIFIED:20170922T154238Z
UID:221-1506160800-1506171600@wahlen.linke-blogs.de
SUMMARY:Wahlkampfabschluss in Potsdam
DESCRIPTION:Mit dabei: Der LINKE Tour-Truck\, unsere Parteivorsitzende Katja Kipping\, unser Landesvorsitzender Christian Görke\, unsere Brandenburger Spitzenkandidatin Kirsten Tackmann und Norbert Müller (LINKER Direktkandidat für Potsdam und den östlichen Teil des Landkreises Potsdam-Mittelmark). Special Guest aus Thüringen ist Susanne Hennig-Wellsow\, Landesvorsitzende der LINKEN Thüringen und Fraktionsvorsitzende der Linksfraktion im Thüringer Landtag. Die Moderation übernimmt unsere Landesgeschäftsführerin Anja Mayer Wir stärken uns ab 10 Uhr mit einem gemütlichen Frühstück\, um 11 Uhr beginnt der Wahlkampfabschluss der LINKEN Brandenburg. Für Unterhaltung ist gesorgt mit Live-Musik und Hüpfburg. \n
URL:http://wahlen.linke-blogs.de/event/wahlkampfabschluss-in-potsdam/
LOCATION:Potsdam\, 14471\, Deutschland
ATTACH;FMTTYPE=image/png:http://wahlen.linke-blogs.de/wp-content/uploads/2017/04/Wahlkampfabschluss1.png
END:VEVENT
END:VCALENDAR