BEGIN:VCALENDAR
VERSION:2.0
PRODID:-//SOZIAL. GERECHT. FÜR ALLE. - ECPv4.6.14.1//NONSGML v1.0//EN
CALSCALE:GREGORIAN
METHOD:PUBLISH
X-WR-CALNAME:SOZIAL. GERECHT. FÜR ALLE.
X-ORIGINAL-URL:http://wahlen.linke-blogs.de
X-WR-CALDESC:Veranstaltungen für SOZIAL. GERECHT. FÜR ALLE.
BEGIN:VEVENT
DTSTART;TZID=Europe/Berlin:20170701T100000
DTEND;TZID=Europe/Berlin:20170701T120000
DTSTAMP:20260422T152047
CREATED:20170629T124134Z
LAST-MODIFIED:20170629T181555Z
UID:393-1498903200-1498910400@wahlen.linke-blogs.de
SUMMARY:Wahlfrühstück mit Jan van Aken
DESCRIPTION:Am Samstag\,  ab 10.00 Uhr erwarten wir zum “Wahlfrühstück” in der Zeppelinstraße Jan van Aken\, den Abrüstungsexperten der Bundestagsfraktion der LINKEN\, der mit uns über die Friedenspolitik ins Gespräch kommen will. Hier gibt es nicht nur die Gelegenheit\, das neue Erscheinungsbild der “Wahlfabrik” erstmals in Augenschein zu nehmen\, sondern bei einem gemütlichen Frühstück intensiv und persönlich in die Diskussion einsteigen zu können. \n
URL:http://wahlen.linke-blogs.de/event/wahlfruehsueck-mit-jan-van-aken/
LOCATION:Zeppelinstr. 7\, Potsdam\, 14471
ORGANIZER;CN="DIE%20LINKE.%20Potsdam":MAILTO:info@dielinke-potsdam.de
END:VEVENT
END:VCALENDAR