BEGIN:VCALENDAR
VERSION:2.0
PRODID:-//SOZIAL. GERECHT. FÜR ALLE. - ECPv4.6.14.1//NONSGML v1.0//EN
CALSCALE:GREGORIAN
METHOD:PUBLISH
X-WR-CALNAME:SOZIAL. GERECHT. FÜR ALLE.
X-ORIGINAL-URL:http://wahlen.linke-blogs.de
X-WR-CALDESC:Veranstaltungen für SOZIAL. GERECHT. FÜR ALLE.
BEGIN:VEVENT
DTSTART;TZID=Europe/Berlin:20170913T150000
DTEND;TZID=Europe/Berlin:20170913T170000
DTSTAMP:20260422T114142
CREATED:20170907T120405Z
LAST-MODIFIED:20170907T120405Z
UID:1623-1505314800-1505322000@wahlen.linke-blogs.de
SUMMARY:Versorgung mit Hebammenhilfe sichern
DESCRIPTION:Die Situation der Hebammen hat sich deutschlandweit nicht verbessert. Mit seiner Deutschlandtour macht der Hebammenverband auf die schwierige Situation der Hebammen und Entbindungspfleger aufmerksam. Am 13. September kommen die Hebammen nach Potsdam. In einer öffentlichen Podiumsdiskussion diskutiert u. a. Kerstin Kühn\, LINKE-Direktkandidatin für den Barnim\, über die notwendigen bundespolitischen Rahmenbedingungen\, damit die Versorgung mit Hebammenhilfe auch in Zukunft sichergestellt werden kann. \n
URL:http://wahlen.linke-blogs.de/event/versorgung-mit-hebammenhilfe-sichern/
LOCATION:Am Alten Markt\, Potsdam\, 14467\, Deutschland
END:VEVENT
END:VCALENDAR