BEGIN:VCALENDAR
VERSION:2.0
PRODID:-//SOZIAL. GERECHT. FÜR ALLE. - ECPv4.6.14.1//NONSGML v1.0//EN
CALSCALE:GREGORIAN
METHOD:PUBLISH
X-WR-CALNAME:SOZIAL. GERECHT. FÜR ALLE.
X-ORIGINAL-URL:http://wahlen.linke-blogs.de
X-WR-CALDESC:Veranstaltungen für SOZIAL. GERECHT. FÜR ALLE.
BEGIN:VEVENT
DTSTART;TZID=Europe/Berlin:20170914T180000
DTEND;TZID=Europe/Berlin:20170914T200000
DTSTAMP:20260422T104028
CREATED:20170802T133704Z
LAST-MODIFIED:20170908T140929Z
UID:703-1505412000-1505419200@wahlen.linke-blogs.de
SUMMARY:Mehr Mobilität mit weniger Verkehr in Potsdam – Verkehrspolitische Gesprächsrunde
DESCRIPTION:\nWas ist zu tun für die Stärkung des Umweltverbundes von ÖPNV\, Rad-und Fußgängerverkehr und gegen den Dauerstau in Potsdam und Umgebung?\nWie können besserer Gesundheitsschutz und bessere Mobilität in Potsdam erreicht werden?\nWas bringt der Modellversuch auf der Zeppelinstraße für die Anwohnerinnen und Anwohner\, wie soll es weiter gehen?\n\nMit Anita Tack MdL\, Sprecherin für Stadtentwicklung und Verkehrspolitik der LINKEN im Landtag Brandenburg. Norman Niehoff\, Stadtverwaltung Potsdam\, stellt das Projekt Zeppelinstraße vor. \nDie Gäste sind herzlich eingeladen zum Mitdiskutieren. \n
URL:http://wahlen.linke-blogs.de/event/verkehrspolitische-gespraechsrunde/
LOCATION:Alleestr. 3\, Potsdam\, 14469\, Deutschland
ATTACH;FMTTYPE=image/jpeg:http://wahlen.linke-blogs.de/wp-content/uploads/2017/08/2017-09-14-Verkehrspolitik-e1504879644591.jpg
ORGANIZER;CN="DIE%20LINKE.%20Brandenburg":MAILTO:info@dielinke-brandenburg.de
END:VEVENT
END:VCALENDAR