BEGIN:VCALENDAR
VERSION:2.0
PRODID:-//SOZIAL. GERECHT. FÜR ALLE. - ECPv4.6.14.1//NONSGML v1.0//EN
CALSCALE:GREGORIAN
METHOD:PUBLISH
X-WR-CALNAME:SOZIAL. GERECHT. FÜR ALLE.
X-ORIGINAL-URL:http://wahlen.linke-blogs.de
X-WR-CALDESC:Veranstaltungen für SOZIAL. GERECHT. FÜR ALLE.
BEGIN:VEVENT
DTSTART;TZID=Europe/Berlin:20170920T190000
DTEND;TZID=Europe/Berlin:20170920T210000
DTSTAMP:20260422T051339
CREATED:20170815T164047Z
LAST-MODIFIED:20170815T164047Z
UID:1085-1505934000-1505941200@wahlen.linke-blogs.de
SUMMARY:"Suchst Du noch oder wohnst Du schon?" – Diskussion zur Wohnungspolitik
DESCRIPTION:Diskussion zur Wohnungspolitik mit Andrej Holm (Soziologe und ehem. Berliner Staatssekretär für Wohnen) und Anita Tack (LINKE Landtagsabgeordnete\, Sprecherin für Wohnungspolitik) \n
URL:http://wahlen.linke-blogs.de/event/suchst-du-noch-oder-wohnst-du-schon-diskussion-zur-wohnungspolitik/
LOCATION:An der Reihe 1\, Schöneiche bei Berlin\, 15566\, Deutschland
END:VEVENT
END:VCALENDAR