BEGIN:VCALENDAR
VERSION:2.0
PRODID:-//SOZIAL. GERECHT. FÜR ALLE. - ECPv4.6.14.1//NONSGML v1.0//EN
CALSCALE:GREGORIAN
METHOD:PUBLISH
X-WR-CALNAME:SOZIAL. GERECHT. FÜR ALLE.
X-ORIGINAL-URL:http://wahlen.linke-blogs.de
X-WR-CALDESC:Veranstaltungen für SOZIAL. GERECHT. FÜR ALLE.
BEGIN:VEVENT
DTSTART;VALUE=DATE:20170909
DTEND;VALUE=DATE:20170910
DTSTAMP:20260422T084031
CREATED:20170826T131504Z
LAST-MODIFIED:20170826T131504Z
UID:1400-1504915200-1505001599@wahlen.linke-blogs.de
SUMMARY:Stadtteilfest Am Stern
DESCRIPTION:Norbert Müller MdB\, LINKER Direktkandidat für Potsdam und den östlichen Teil des Landkreises Potsdam-Mittelmark\,  wird auf dem Stadtteilfest der LINKEN Potsdam auf dem Keplerplatz sein. \n
URL:http://wahlen.linke-blogs.de/event/stadtteilfest-am-stern/
LOCATION:Johannes-Kepler-Platz\, Potsdam\, 14480\, Deutschland
ORGANIZER;CN="DIE%20LINKE.%20Potsdam":MAILTO:info@dielinke-potsdam.de
END:VEVENT
END:VCALENDAR