BEGIN:VCALENDAR
VERSION:2.0
PRODID:-//SOZIAL. GERECHT. FÜR ALLE. - ECPv4.6.14.1//NONSGML v1.0//EN
CALSCALE:GREGORIAN
METHOD:PUBLISH
X-WR-CALNAME:SOZIAL. GERECHT. FÜR ALLE.
X-ORIGINAL-URL:http://wahlen.linke-blogs.de
X-WR-CALDESC:Veranstaltungen für SOZIAL. GERECHT. FÜR ALLE.
BEGIN:VEVENT
DTSTART;TZID=Europe/Berlin:20170916T140000
DTEND;TZID=Europe/Berlin:20170916T180000
DTSTAMP:20260422T072509
CREATED:20170623T095554Z
LAST-MODIFIED:20170823T130446Z
UID:268-1505570400-1505584800@wahlen.linke-blogs.de
SUMMARY:Sommerfest in Lübbenau
DESCRIPTION:
URL:http://wahlen.linke-blogs.de/event/sommerfest-2/
END:VEVENT
END:VCALENDAR