BEGIN:VCALENDAR
VERSION:2.0
PRODID:-//SOZIAL. GERECHT. FÜR ALLE. - ECPv4.6.14.1//NONSGML v1.0//EN
CALSCALE:GREGORIAN
METHOD:PUBLISH
X-WR-CALNAME:SOZIAL. GERECHT. FÜR ALLE.
X-ORIGINAL-URL:http://wahlen.linke-blogs.de
X-WR-CALDESC:Veranstaltungen für SOZIAL. GERECHT. FÜR ALLE.
BEGIN:VEVENT
DTSTART;TZID=Europe/Berlin:20170821T100000
DTEND;TZID=Europe/Berlin:20170821T113000
DTSTAMP:20260422T121104
CREATED:20170815T180034Z
LAST-MODIFIED:20170818T142416Z
UID:1114-1503309600-1503315000@wahlen.linke-blogs.de
SUMMARY:Rotes Frühstück in Strausberg
DESCRIPTION:Am 21. August 2017 lädt DIE LINKE. Strausberg zum “Roten Frühstück” mit Kerstin Kühn\, LINKE Direktkandidatin für Märkisch-Oderland und den südlichen Barnim\, ein. \n
URL:http://wahlen.linke-blogs.de/event/rotes-fruehstueck-in-strausberg/
LOCATION:Große Str. 45\, Strausberg\, 15344\, Deutschland
END:VEVENT
END:VCALENDAR