BEGIN:VCALENDAR
VERSION:2.0
PRODID:-//SOZIAL. GERECHT. FÜR ALLE. - ECPv4.6.14.1//NONSGML v1.0//EN
CALSCALE:GREGORIAN
METHOD:PUBLISH
X-WR-CALNAME:SOZIAL. GERECHT. FÜR ALLE.
X-ORIGINAL-URL:http://wahlen.linke-blogs.de
X-WR-CALDESC:Veranstaltungen für SOZIAL. GERECHT. FÜR ALLE.
BEGIN:VEVENT
DTSTART;TZID=Europe/Berlin:20170822T100000
DTEND;TZID=Europe/Berlin:20170822T120000
DTSTAMP:20260422T123448
CREATED:20170630T081156Z
LAST-MODIFIED:20170814T165343Z
UID:486-1503396000-1503403200@wahlen.linke-blogs.de
SUMMARY:Rotes Frühstück in Seelow
DESCRIPTION:Für den 22. August 2017 plant DIE LINKE. Seelow ein “Rotes Frühstück” auf dem Marktplatz\, zu dem unsere Direktkandidatin für Märkisch-Oderland und Barnim Kerstin Kühn eingeladen ist. \n
URL:http://wahlen.linke-blogs.de/event/rotes-fruehstueck-in-seelow/
LOCATION:Marktgasse\, Seelow\, 15306\, Deutschland
END:VEVENT
END:VCALENDAR