BEGIN:VCALENDAR
VERSION:2.0
PRODID:-//SOZIAL. GERECHT. FÜR ALLE. - ECPv4.6.14.1//NONSGML v1.0//EN
CALSCALE:GREGORIAN
METHOD:PUBLISH
X-WR-CALNAME:SOZIAL. GERECHT. FÜR ALLE.
X-ORIGINAL-URL:http://wahlen.linke-blogs.de
X-WR-CALDESC:Veranstaltungen für SOZIAL. GERECHT. FÜR ALLE.
BEGIN:VEVENT
DTSTART;TZID=Europe/Berlin:20170715T100000
DTEND;TZID=Europe/Berlin:20170715T170000
DTSTAMP:20260422T170022
CREATED:20170413T110002Z
LAST-MODIFIED:20170712T160649Z
UID:198-1500112800-1500138000@wahlen.linke-blogs.de
SUMMARY:Pressefest der Kleinen Zeitungen
DESCRIPTION:Die LINKE. Barnim\, die Brandenburger Landesarbeitsgesellschaft “Rote Reporter” der LINKEN und die Buchhandlungs “Schatzinsel” laden in diesem Jahr zum Pressefest der kleinen Zeitungen ein. Rund um das Bernauer Steintor haben Sie die Möglichkeit\, an dem bunten Fest teilzunehmen und unsere Bundestagskandidatin für den Barnim Kerstin Kühn\, sowie Harald Petzold MdB für Fürstenberg\, Oberhavel und Falkensee zu treffen.\nSo wird es parallel zum Open Air-Fest verschiedene Programme in der Stadthalle Bernau geben: darunter von 11 bis 12.30 Uhr ein aktueller Bildvortrag zu Kuba\, organisiert von Cuba sì Bernau\, von 15 Uhr bis 16.30 Uhr ein Kinderprogramm zum Thema “Wie ein Buch entsteht”. Auch an einem 420m langen Spendenlauf von 10:30-11:30 können Sportler*Innen teilnehen und Ferienangebote des “Eltern helfen Eltern Bernau e.V.” unterstützen.\nWir freuen uns auf Ihren Besuch! \n
URL:http://wahlen.linke-blogs.de/event/pressefest-der-kleinen-zeitungen/
LOCATION:Steintor\, Bernau\, 16321
END:VEVENT
END:VCALENDAR