BEGIN:VCALENDAR
VERSION:2.0
PRODID:-//SOZIAL. GERECHT. FÜR ALLE. - ECPv4.6.14.1//NONSGML v1.0//EN
CALSCALE:GREGORIAN
METHOD:PUBLISH
X-WR-CALNAME:SOZIAL. GERECHT. FÜR ALLE.
X-ORIGINAL-URL:http://wahlen.linke-blogs.de
X-WR-CALDESC:Veranstaltungen für SOZIAL. GERECHT. FÜR ALLE.
BEGIN:VEVENT
DTSTART;TZID=Europe/Berlin:20170912T140000
DTEND;TZID=Europe/Berlin:20170912T140000
DTSTAMP:20260422T122024
CREATED:20170906T135330Z
LAST-MODIFIED:20170906T140438Z
UID:1547-1505224800-1505224800@wahlen.linke-blogs.de
SUMMARY:Podiumsdiskussion zur Bundestagswahl in Eberswalde
DESCRIPTION:U. a. mit Andreas Büttner\, dem LINKEN Direktkandidaten für die Uckermark und den nördlichen Teil des Landkreises Barnim \n
URL:http://wahlen.linke-blogs.de/event/podiumsdiskussion-zur-bundestagswahl-in-eberswalde/
LOCATION:Puschkinstr. 13\, Eberswalde\, 16225\, Deutschland
END:VEVENT
END:VCALENDAR