BEGIN:VCALENDAR
VERSION:2.0
PRODID:-//SOZIAL. GERECHT. FÜR ALLE. - ECPv4.6.14.1//NONSGML v1.0//EN
CALSCALE:GREGORIAN
METHOD:PUBLISH
X-WR-CALNAME:SOZIAL. GERECHT. FÜR ALLE.
X-ORIGINAL-URL:http://wahlen.linke-blogs.de
X-WR-CALDESC:Veranstaltungen für SOZIAL. GERECHT. FÜR ALLE.
BEGIN:VEVENT
DTSTART;VALUE=DATE:20170911
DTEND;VALUE=DATE:20170912
DTSTAMP:20260424T090605
CREATED:20170906T134656Z
LAST-MODIFIED:20170906T135054Z
UID:1544-1505088000-1505174399@wahlen.linke-blogs.de
SUMMARY:Podiumsdiskussion von Uckermark Kurier und Uckermark TV
DESCRIPTION:U. a. mit Andreas Büttner\, dem LINKEN Direktkandidaten für die Uckermark und den nördlichen Teil des Landkreises Barnim \n
URL:http://wahlen.linke-blogs.de/event/podiumsdiskussion-von-uckermark-kurier-und-uckermark-tv/
LOCATION:Grabowstr. 15a\, Prenzlau\, 17291\, Deutschland
END:VEVENT
END:VCALENDAR