BEGIN:VCALENDAR
VERSION:2.0
PRODID:-//SOZIAL. GERECHT. FÜR ALLE. - ECPv4.6.14.1//NONSGML v1.0//EN
CALSCALE:GREGORIAN
METHOD:PUBLISH
X-WR-CALNAME:SOZIAL. GERECHT. FÜR ALLE.
X-ORIGINAL-URL:http://wahlen.linke-blogs.de
X-WR-CALDESC:Veranstaltungen für SOZIAL. GERECHT. FÜR ALLE.
BEGIN:VEVENT
DTSTART;TZID=Europe/Berlin:20170921T180000
DTEND;TZID=Europe/Berlin:20170921T200000
DTSTAMP:20260422T115007
CREATED:20170823T164116Z
LAST-MODIFIED:20170823T164116Z
UID:1345-1506016800-1506024000@wahlen.linke-blogs.de
SUMMARY:Podiumsdiskussion mit den Direktkandidat*innen im Wahlkreis 58
DESCRIPTION:U. a. mit Harald Petzold MdB\, LINKER Direktkandidat für Oberhavel und das östliche Havelland. \n
URL:http://wahlen.linke-blogs.de/event/podiumsdiskussion-mit-den-direktkandidatinnen-im-wahlkreis-58/
LOCATION:Hauptstr. 19\, Glienicke/Nordbahn\, 16548\, Deutschland
END:VEVENT
END:VCALENDAR