BEGIN:VCALENDAR
VERSION:2.0
PRODID:-//SOZIAL. GERECHT. FÜR ALLE. - ECPv4.6.14.1//NONSGML v1.0//EN
CALSCALE:GREGORIAN
METHOD:PUBLISH
X-WR-CALNAME:SOZIAL. GERECHT. FÜR ALLE.
X-ORIGINAL-URL:http://wahlen.linke-blogs.de
X-WR-CALDESC:Veranstaltungen für SOZIAL. GERECHT. FÜR ALLE.
BEGIN:VEVENT
DTSTART;TZID=Europe/Berlin:20170914T180000
DTEND;TZID=Europe/Berlin:20170914T200000
DTSTAMP:20260422T115722
CREATED:20170823T163256Z
LAST-MODIFIED:20170823T163256Z
UID:1341-1505412000-1505419200@wahlen.linke-blogs.de
SUMMARY:Podiumsdiskussion mit den Bundestagswahlkandidat*innen aus Oberhavel
DESCRIPTION:Diskussion im Rahmen der Mitgliederversammlung des Mittelstandsverbandes Oberhavel e. V.\, u. a. mit Harald Petzold MdB\, LINKER Direktkandidat für Oberhavel und das östliche Havelland. \n
URL:http://wahlen.linke-blogs.de/event/podiumsdiskussion-mit-den-bundestagswahlkandidatinnen-aus-oberhavel/
LOCATION:Hauptstr. 90-94\, Birkenwerder\, 16547\, Deutschland
END:VEVENT
END:VCALENDAR