BEGIN:VCALENDAR
VERSION:2.0
PRODID:-//SOZIAL. GERECHT. FÜR ALLE. - ECPv4.6.14.1//NONSGML v1.0//EN
CALSCALE:GREGORIAN
METHOD:PUBLISH
X-WR-CALNAME:SOZIAL. GERECHT. FÜR ALLE.
X-ORIGINAL-URL:http://wahlen.linke-blogs.de
X-WR-CALDESC:Veranstaltungen für SOZIAL. GERECHT. FÜR ALLE.
BEGIN:VEVENT
DTSTART;TZID=Europe/Berlin:20170914T190000
DTEND;TZID=Europe/Berlin:20170914T190000
DTSTAMP:20260422T084520
CREATED:20170906T141154Z
LAST-MODIFIED:20170906T141154Z
UID:1556-1505415600-1505415600@wahlen.linke-blogs.de
SUMMARY:Podiumsdiskussion der Kreisvolkshochschule Uckermark in leichter Sprache
DESCRIPTION:U. a. mit Andreas Büttner\, dem LINKEN Direktkandidaten für die Uckermark und den nördlichen Teil des Landkreises Barnim \n
URL:http://wahlen.linke-blogs.de/event/podiumsdiskussion-der-kreisvolkshochschule-uckermark-in-leichter-sprache/
LOCATION:Seeweg 6\, Prenzlau\, 17291\, Deutschland
END:VEVENT
END:VCALENDAR