BEGIN:VCALENDAR
VERSION:2.0
PRODID:-//SOZIAL. GERECHT. FÜR ALLE. - ECPv4.6.14.1//NONSGML v1.0//EN
CALSCALE:GREGORIAN
METHOD:PUBLISH
X-WR-CALNAME:SOZIAL. GERECHT. FÜR ALLE.
X-ORIGINAL-URL:http://wahlen.linke-blogs.de
X-WR-CALDESC:Veranstaltungen für SOZIAL. GERECHT. FÜR ALLE.
BEGIN:VEVENT
DTSTART;TZID=Europe/Berlin:20170912T190000
DTEND;TZID=Europe/Berlin:20170912T210000
DTSTAMP:20260422T120619
CREATED:20170823T161405Z
LAST-MODIFIED:20170823T161812Z
UID:1332-1505242800-1505250000@wahlen.linke-blogs.de
SUMMARY:Podiumsdiskussion der Europa-Union
DESCRIPTION:U. a. mit Harald Petzold MdB\, LINKER Direktkandidat für Oberhavel und das östliche Havelland. \n
URL:http://wahlen.linke-blogs.de/event/podiumsdiskussion-der-europa-union/
END:VEVENT
END:VCALENDAR