BEGIN:VCALENDAR
VERSION:2.0
PRODID:-//SOZIAL. GERECHT. FÜR ALLE. - ECPv4.6.14.1//NONSGML v1.0//EN
CALSCALE:GREGORIAN
METHOD:PUBLISH
X-WR-CALNAME:SOZIAL. GERECHT. FÜR ALLE.
X-ORIGINAL-URL:http://wahlen.linke-blogs.de
X-WR-CALDESC:Veranstaltungen für SOZIAL. GERECHT. FÜR ALLE.
BEGIN:VEVENT
DTSTART;TZID=Europe/Berlin:20170821T180000
DTEND;TZID=Europe/Berlin:20170821T180000
DTSTAMP:20260422T123113
CREATED:20170815T104336Z
LAST-MODIFIED:20170815T104838Z
UID:1021-1503338400-1503338400@wahlen.linke-blogs.de
SUMMARY:Offene Worte: Gespräch mit Dagmar Enkelmann und Kerstin Kühn
DESCRIPTION:
URL:http://wahlen.linke-blogs.de/event/offene-worte-gespraech-mit-dagmar-enkelmann-und-kerstin-kuehn/
LOCATION:Lindenallee 12\, Hoppegarten\, 15366\, Deutschland
END:VEVENT
END:VCALENDAR