BEGIN:VCALENDAR
VERSION:2.0
PRODID:-//SOZIAL. GERECHT. FÜR ALLE. - ECPv4.6.14.1//NONSGML v1.0//EN
CALSCALE:GREGORIAN
METHOD:PUBLISH
X-WR-CALNAME:SOZIAL. GERECHT. FÜR ALLE.
X-ORIGINAL-URL:http://wahlen.linke-blogs.de
X-WR-CALDESC:Veranstaltungen für SOZIAL. GERECHT. FÜR ALLE.
BEGIN:VEVENT
DTSTART;TZID=Europe/Berlin:20170912T180000
DTEND;TZID=Europe/Berlin:20170912T180000
DTSTAMP:20260422T134821
CREATED:20170906T140016Z
LAST-MODIFIED:20170920T103922Z
UID:1550-1505239200-1505239200@wahlen.linke-blogs.de
SUMMARY:Offene Worte: Dagmar Enkelmann im Gespräch mit Andreas Büttner
DESCRIPTION:Dagmar Enkelmann diskutiert mit Andreas Büttner\, LINKER Direktkandidat für die Uckermark und den nördlichen Teil des Landkreises Barnim \n
URL:http://wahlen.linke-blogs.de/event/offene-worte-dagmar-enkelmann-im-gespraech-mit-andreas-buettner/
END:VEVENT
END:VCALENDAR