BEGIN:VCALENDAR
VERSION:2.0
PRODID:-//SOZIAL. GERECHT. FÜR ALLE. - ECPv4.6.14.1//NONSGML v1.0//EN
CALSCALE:GREGORIAN
METHOD:PUBLISH
X-WR-CALNAME:SOZIAL. GERECHT. FÜR ALLE.
X-ORIGINAL-URL:http://wahlen.linke-blogs.de
X-WR-CALDESC:Veranstaltungen für SOZIAL. GERECHT. FÜR ALLE.
BEGIN:VEVENT
DTSTART;TZID=Europe/Berlin:20170907T180000
DTEND;TZID=Europe/Berlin:20170907T200000
DTSTAMP:20260422T104026
CREATED:20170903T174455Z
LAST-MODIFIED:20170903T174455Z
UID:1485-1504807200-1504814400@wahlen.linke-blogs.de
SUMMARY:Öffentliche Diskussion zur Bundestagswahl 2017
DESCRIPTION:Die Kandidatin der Partei DIE LINKE für den Wahlkreis 65\, Diana Tietze\, und der Kandidat für die Linken zur Bürgermeisterwahl in Doberlug-Kirchhain\, Ingo Setzermann\, stellen sich den Wählerinnen und Wählern vor. Die Abgeordnete des Landtags Diana Bader ist ebenfalls vor Ort. \n
URL:http://wahlen.linke-blogs.de/event/oeffentliche-diskussion-zur-bundestagswahl-2017/
LOCATION:Bahnhofstr. 22\, Doberlug-Kirchhain\, 03253\, Deutschland
END:VEVENT
END:VCALENDAR