BEGIN:VCALENDAR
VERSION:2.0
PRODID:-//SOZIAL. GERECHT. FÜR ALLE. - ECPv4.6.14.1//NONSGML v1.0//EN
CALSCALE:GREGORIAN
METHOD:PUBLISH
X-WR-CALNAME:SOZIAL. GERECHT. FÜR ALLE.
X-ORIGINAL-URL:http://wahlen.linke-blogs.de
X-WR-CALDESC:Veranstaltungen für SOZIAL. GERECHT. FÜR ALLE.
BEGIN:VEVENT
DTSTART;TZID=Europe/Berlin:20170905T180000
DTEND;TZID=Europe/Berlin:20170905T210000
DTSTAMP:20260422T073246
CREATED:20170815T170910Z
LAST-MODIFIED:20170815T171352Z
UID:1098-1504634400-1504645200@wahlen.linke-blogs.de
SUMMARY:Netzpolitisches Forum: "Digitale Agenda 2017-2021 – Netzpolitische Visionen und Notwendigkeiten"
DESCRIPTION:Netzpolitischer Parteiencheck: Panelrunde ab 18.15 Uhr mit Netzpolitiker*innen der im Bundestag vertretenen Parteien\, u. a. LINKE Direktkandidatin Anke Domscheit-Berg \n  \n
URL:http://wahlen.linke-blogs.de/event/netzpolitisches-forum-digitale-agenda-2017-2021-netzpolitische-visionen-und-notwendigkeiten/
LOCATION:Unter den Linden 17\, Berlin\, 10117\, Deutschland
END:VEVENT
END:VCALENDAR