BEGIN:VCALENDAR
VERSION:2.0
PRODID:-//SOZIAL. GERECHT. FÜR ALLE. - ECPv4.6.14.1//NONSGML v1.0//EN
CALSCALE:GREGORIAN
METHOD:PUBLISH
X-WR-CALNAME:SOZIAL. GERECHT. FÜR ALLE.
X-ORIGINAL-URL:http://wahlen.linke-blogs.de
X-WR-CALDESC:Veranstaltungen für SOZIAL. GERECHT. FÜR ALLE.
BEGIN:VEVENT
DTSTART;TZID=Europe/Berlin:20170905T180000
DTEND;TZID=Europe/Berlin:20170905T203000
DTSTAMP:20260424T093226
CREATED:20170817T111245Z
LAST-MODIFIED:20170830T131657Z
UID:1144-1504634400-1504643400@wahlen.linke-blogs.de
SUMMARY:"Nein zum Krieg\, für ein demokratisches und solidarisches Europa"
DESCRIPTION:Podiumsdiskussion und Grillen mit den Bundestagsabgeordneten Jan van Aken\, Mitglied im Auswärtigen Ausschuss und des Unterausschusses “Abrüstung\, Rüstungskontrolle und Nichtverbreitung” und ehemaliger Biowaffeninspekteur für die Vereinten Nationen\, und Thomas Nord\, LINKER Direktkandidat für Frankfurt (Oder) und den Landkreis Oder-Spree. \n
URL:http://wahlen.linke-blogs.de/event/nein-zum-krieg/
LOCATION:An der Reihe 5\, Schöneiche bei Berlin\, 15566\, Deutschland
END:VEVENT
END:VCALENDAR