BEGIN:VCALENDAR
VERSION:2.0
PRODID:-//SOZIAL. GERECHT. FÜR ALLE. - ECPv4.6.14.1//NONSGML v1.0//EN
CALSCALE:GREGORIAN
METHOD:PUBLISH
X-WR-CALNAME:SOZIAL. GERECHT. FÜR ALLE.
X-ORIGINAL-URL:http://wahlen.linke-blogs.de
X-WR-CALDESC:Veranstaltungen für SOZIAL. GERECHT. FÜR ALLE.
BEGIN:VEVENT
DTSTART;TZID=Europe/Berlin:20170901T160000
DTEND;TZID=Europe/Berlin:20170901T180000
DTSTAMP:20260422T102034
CREATED:20170802T125122Z
LAST-MODIFIED:20170830T141114Z
UID:688-1504281600-1504288800@wahlen.linke-blogs.de
SUMMARY:Vortrag: "Militär & Jugend in Deutschland"
DESCRIPTION:Vortrag von Norbert Müller (Mitglied des Deutschen Bundestages und LINKER Direktkandidat für Potsdam und den östlichen Teil des Landkreises Potsdam-Mittelmark) mit anschließender Diskussion: Die deutsche Bundeswehr befindet sich permanent im Krieg – oder\, wie die Bundesregierung sagen würde\, im bewaffneten Auslandseinsatz. Seit fast zwei Jahrzehnten ist der Einsatz von Soldaten trauriger Normalzustand deutscher Außenpolitik. Horst Köhler musste als Bundespräsident zurücktreten\, als er die neue militärische Außenpolitik mit ökonomischen und geostrategischen Interessen der Bundesrepublik begründete. Die Bundespräsidenten Joachim Gauck und Frank-Walter Steinmeier vertraten und vertreten dagegen ganz offen und seit Jahren diese Position . Die permanenten Kriegseinsätze\, das Aussetzen der Wehrpflicht und der Umbau der Bundeswehr zu einer Interventionsarmee haben unsere Gesellschaft und ihre Werte tiefgreifend verändert. \nNorbert Müller ist kinder- und jugendpolitischer Sprecher der Linksfraktion und Vorsitzender Kinderkommission des Deutschen Bundestages. Er wird in seinem Vortrag berichten\, wie die Bundesregierung Kriegseinsätze im Eilverfahren durch den Bundestag peitscht und wie sie ihre militärische Außenpolitik rechtfertigt. Norbert Müller wird insbesondere über die Rekrutierung Minderjähriger für die Bundeswehr und über Werbungsstrategien gegenüber Kindern und Jugendlichen berichten. \nAnschließende Fragen können dann in der Abschlussdiskussion erörtert werden. \n
URL:http://wahlen.linke-blogs.de/event/militaer-jugend-in-deutschland/
LOCATION:Alleestr. 3\, Potsdam\, 14469\, Deutschland
ATTACH;FMTTYPE=image/jpeg:http://wahlen.linke-blogs.de/wp-content/uploads/2017/08/2017-09-01-Norbert-Müller-e1504102267857.jpg
ORGANIZER;CN="DIE%20LINKE.%20Brandenburg":MAILTO:info@dielinke-brandenburg.de
END:VEVENT
END:VCALENDAR