BEGIN:VCALENDAR
VERSION:2.0
PRODID:-//SOZIAL. GERECHT. FÜR ALLE. - ECPv4.6.14.1//NONSGML v1.0//EN
CALSCALE:GREGORIAN
METHOD:PUBLISH
X-WR-CALNAME:SOZIAL. GERECHT. FÜR ALLE.
X-ORIGINAL-URL:http://wahlen.linke-blogs.de
X-WR-CALDESC:Veranstaltungen für SOZIAL. GERECHT. FÜR ALLE.
BEGIN:VEVENT
DTSTART;TZID=Europe/Berlin:20170814T190000
DTEND;TZID=Europe/Berlin:20170814T220000
DTSTAMP:20260422T105308
CREATED:20170802T113107Z
LAST-MODIFIED:20170824T120009Z
UID:673-1502737200-1502748000@wahlen.linke-blogs.de
SUMMARY:Montagskino: "Sachamanta" & "Tincunacuy"
DESCRIPTION:Im Hof des Lothar-Bisky-Hauses zeigen wir die Filme Sachamanta und Tincunacuy. Anschließend gibt es ein Filmgespräch mit der Regisseurin Viviana Uriona von den Kameradistinnen. \n
URL:http://wahlen.linke-blogs.de/event/linkes-montagskino/
LOCATION:Alleestr. 3\, Potsdam\, 14469\, Deutschland
ORGANIZER;CN="DIE%20LINKE.%20Brandenburg":MAILTO:info@dielinke-brandenburg.de
END:VEVENT
END:VCALENDAR