BEGIN:VCALENDAR
VERSION:2.0
PRODID:-//SOZIAL. GERECHT. FÜR ALLE. - ECPv4.6.14.1//NONSGML v1.0//EN
CALSCALE:GREGORIAN
METHOD:PUBLISH
X-WR-CALNAME:SOZIAL. GERECHT. FÜR ALLE.
X-ORIGINAL-URL:http://wahlen.linke-blogs.de
X-WR-CALDESC:Veranstaltungen für SOZIAL. GERECHT. FÜR ALLE.
BEGIN:VEVENT
DTSTART;TZID=Europe/Berlin:20170821T190000
DTEND;TZID=Europe/Berlin:20170821T220000
DTSTAMP:20260422T105304
CREATED:20170802T115436Z
LAST-MODIFIED:20170818T161119Z
UID:678-1503342000-1503352800@wahlen.linke-blogs.de
SUMMARY:Montagskino: "Ohne Rast\, ohne Eile"
DESCRIPTION:Was bedeutet antikapitalistischer Protest auf regionaler Ebene? Was treibt Menschen zu Veränderungen an\, ihre Zukunft in die eigenen Hände zu nehmen und zuweilen ihre Leben dabei zu riskieren? Darüber berichtet “Ohne Rast. Ohne Eile.”\, ein Dokumentarfilm der Filmgruppe Kameradistinnen\, welcher am Montag\, 21. August 2017\, auf dem Hof des Lothar-Bisky-Hauses in der Alleestraße 3 in Potsdam gezeigt wird. \n“Ohne Rast. Ohne Eile.” erzählt vom erfolgreichen Widerstand indigener Gemeinden im Norden Argentiniens gegen Konzerne wie MONSANTO. Der Konflikt dreht sich um das Eigentum an dem kargen Land der Region Santiago del Estero\, das seit Jahrhunderten als Gemeineigentum die indigenen Bauerngemeinden ernährt und ein begehrtes Spekulationsobjekt geworden ist – seit genmodifiziertes Saatgut und chemischer Dünger auch in dieser Region den großflächigen Anbau von Futter-Soja rentabel gemacht haben. Wieder einmal sollen die Indigenen weichen\, Platz machen für die Interessen des Kapitals. Doch es geschieht das völlig Unerwartete: Die indigenen Gemeinden besiegen die übermächtigen Konzerne und vernetzen sich mit linken ländlichen und städtischen Gruppen in der ganzen Welt. \n“Ohne Rast. Ohne Eile.” erzählt eine Geschichte\, die viele tausend Kilometer entfernt ist von den sozialpolitischen Kämpfen dieses Europas – und könnte diesen Kämpfen zugleich kaum näher sein!\nAnschließend gibt es ein Filmgespräch mit unserer Spitzenkandidatin Kirsten Tackmann Mark Uriona von den Kameradistinnen. Der Beginn des Filmabends\, bei dem es auch eine entsprechende Versorgung gibt\, ist 19 Uhr. Der Eintritt ist frei. \n
URL:http://wahlen.linke-blogs.de/event/linkes-montagskino-2/
LOCATION:Alleestr. 3\, Potsdam\, 14469\, Deutschland
ATTACH;FMTTYPE=image/jpeg:http://wahlen.linke-blogs.de/wp-content/uploads/2017/08/2017-08-21-Ohne-Rast-ohne-Eile-1-e1503072670913.jpg
END:VEVENT
END:VCALENDAR