BEGIN:VCALENDAR
VERSION:2.0
PRODID:-//SOZIAL. GERECHT. FÜR ALLE. - ECPv4.6.14.1//NONSGML v1.0//EN
CALSCALE:GREGORIAN
METHOD:PUBLISH
X-WR-CALNAME:SOZIAL. GERECHT. FÜR ALLE.
X-ORIGINAL-URL:http://wahlen.linke-blogs.de
X-WR-CALDESC:Veranstaltungen für SOZIAL. GERECHT. FÜR ALLE.
BEGIN:VEVENT
DTSTART;TZID=Europe/Berlin:20170901T160000
DTEND;TZID=Europe/Berlin:20170901T160000
DTSTAMP:20260422T120420
CREATED:20170817T110746Z
LAST-MODIFIED:20170817T143108Z
UID:1140-1504281600-1504281600@wahlen.linke-blogs.de
SUMMARY:Lesen gegen den Krieg
DESCRIPTION:Thomas Nord\, Mitglied des Deutschen Bundestages und LINKER Direktkandidat für Frankfurt (Oder) und den Landkreis Oder Spree\, und Mitglieder der Fürstenwalder LINKEN lesen vor der “Roten Bank” Texte gegen den Krieg\, gegen das Vergessen\, zum Erinnern und Mutmachen. Um zu zeigen\, dass Krieg und Gewalt als politische Instrumente geächtet werden und verschwinden müssen und dass wir LINKEN für eine friedliche Welt einstehen\, die im Alltag vor Ort und in den Köpfen der Menschen ihren Anfang nimmt. \n
URL:http://wahlen.linke-blogs.de/event/lesen-gegen-den-krieg/
LOCATION:Mühlenstr. 15\, Fürstenwalde\, 15517\, Deutschland
END:VEVENT
END:VCALENDAR