BEGIN:VCALENDAR
VERSION:2.0
PRODID:-//SOZIAL. GERECHT. FÜR ALLE. - ECPv4.6.14.1//NONSGML v1.0//EN
CALSCALE:GREGORIAN
METHOD:PUBLISH
X-WR-CALNAME:SOZIAL. GERECHT. FÜR ALLE.
X-ORIGINAL-URL:http://wahlen.linke-blogs.de
X-WR-CALDESC:Veranstaltungen für SOZIAL. GERECHT. FÜR ALLE.
BEGIN:VEVENT
DTSTART;TZID=Europe/Berlin:20170901T180000
DTEND;TZID=Europe/Berlin:20170901T180000
DTSTAMP:20260422T114214
CREATED:20170823T165350Z
LAST-MODIFIED:20170823T165651Z
UID:1351-1504288800-1504288800@wahlen.linke-blogs.de
SUMMARY:Gedenkveranstaltung zum Weltfriedenstag
DESCRIPTION:Kundgebung der Friedenskoordination Potsdam unter dem Motto “Für eine Welt ohne Krieg”. Es werden Norbert Müller MdB\, Erhard Stenzel (beide DIE LINKE) und Hans-Jürgen Schulze-Eggert von den Potsdamer Christen für den Frieden sprechen. Bereits um 17 Uhr findet am Brandenburger Tor ein interreligiöses Friedensgebet statt. \n
URL:http://wahlen.linke-blogs.de/event/kundgebung-zum-weltfriedenstag/
LOCATION:Potsdam\, 14467\, Deutschland
END:VEVENT
END:VCALENDAR