BEGIN:VCALENDAR
VERSION:2.0
PRODID:-//SOZIAL. GERECHT. FÜR ALLE. - ECPv4.6.14.1//NONSGML v1.0//EN
CALSCALE:GREGORIAN
METHOD:PUBLISH
X-WR-CALNAME:SOZIAL. GERECHT. FÜR ALLE.
X-ORIGINAL-URL:http://wahlen.linke-blogs.de
X-WR-CALDESC:Veranstaltungen für SOZIAL. GERECHT. FÜR ALLE.
BEGIN:VEVENT
DTSTART;TZID=Europe/Berlin:20170908T180000
DTEND;TZID=Europe/Berlin:20170908T210000
DTSTAMP:20260422T100544
CREATED:20170811T131439Z
LAST-MODIFIED:20170817T142949Z
UID:866-1504893600-1504904400@wahlen.linke-blogs.de
SUMMARY:Debatte mit Anke Domscheit-Berg und Kerstin Kühn zur Zukunft der Arbeit
DESCRIPTION:Anke Domscheit-Berg\, Unternehmerin und Publizistin\, und Kerstin Kühn\, Rechtsanwältin\, debattieren über die Zukunft der Arbeit. Anke Domscheit-Berg ist LINKE Direktkandidatin für Brandenburg an der Havel\, Potsdam-Mittelmark\, das südliche Havelland und den westlichen Teil des Landkreises Teltow-Fläming; Kerstin Kühn ist LINKE Direktkandidatin für Märkisch-Oderland und den südlichen Barnim. \n\n
URL:http://wahlen.linke-blogs.de/event/kerstin-kuehn-anke-domscheit-berg-debattieren-zur-zukunft-der-arbeit/
LOCATION:Eberswalder Str. 84\, Müncheberg\, 15374\, Deutschland
END:VEVENT
END:VCALENDAR