BEGIN:VCALENDAR
VERSION:2.0
PRODID:-//SOZIAL. GERECHT. FÜR ALLE. - ECPv4.6.14.1//NONSGML v1.0//EN
CALSCALE:GREGORIAN
METHOD:PUBLISH
X-WR-CALNAME:SOZIAL. GERECHT. FÜR ALLE.
X-ORIGINAL-URL:http://wahlen.linke-blogs.de
X-WR-CALDESC:Veranstaltungen für SOZIAL. GERECHT. FÜR ALLE.
BEGIN:VEVENT
DTSTART;TZID=Europe/Berlin:20170901T190000
DTEND;TZID=Europe/Berlin:20170901T190000
DTSTAMP:20260424T090730
CREATED:20170823T114423Z
LAST-MODIFIED:20170823T114608Z
UID:1273-1504292400-1504292400@wahlen.linke-blogs.de
SUMMARY:"Immer schön auf Augenhöhe" – Lesung mit Gesine Lötzsch
DESCRIPTION:Gesine Lötzsch\, seit 2002 LINKE Bundestagsabgeordnete\, präsentiert ihr Buch über ganz persönliche Erlebnisse und Erfahrungen hinter den Kulissen des Deutschen Bundestages. In dem Buch geht es natürlich um den Arbeitsalltag zwischen Parlamentsdebatten\, Presseterminen und direkten Aktionen auf der Straße. Alles unterhaltsam und klug aufgeschrieben. Zusammen mit dem Carsten Preuß\, unserem Direktkandidaten für die Dahme-Spreewald\, den östlichen Teltow-Fläming und den nördlichen Teil des Landkreises Oberspreewald-Lausitz\, wird Gesine Lötzsch auch Fragen zu aktuellen Themen beantworten. \nEintritt: 5 Euro \n
URL:http://wahlen.linke-blogs.de/event/immer-schoen-auf-augenhoehe-lesung-mit-gesine-loetzsch/
LOCATION:Gutenbergstr. 5\, Zossen OT Waldstadt\, 15806\, Deutschland
END:VEVENT
END:VCALENDAR