BEGIN:VCALENDAR
VERSION:2.0
PRODID:-//SOZIAL. GERECHT. FÜR ALLE. - ECPv4.6.14.1//NONSGML v1.0//EN
CALSCALE:GREGORIAN
METHOD:PUBLISH
X-WR-CALNAME:SOZIAL. GERECHT. FÜR ALLE.
X-ORIGINAL-URL:http://wahlen.linke-blogs.de
X-WR-CALDESC:Veranstaltungen für SOZIAL. GERECHT. FÜR ALLE.
BEGIN:VEVENT
DTSTART;VALUE=DATE:20170818
DTEND;VALUE=DATE:20170819
DTSTAMP:20260422T090114
CREATED:20170623T094219Z
LAST-MODIFIED:20170815T100500Z
UID:258-1503014400-1503100799@wahlen.linke-blogs.de
SUMMARY:Hoffest der LINKEN in Seelow
DESCRIPTION:Unsere Direktkandidatin für Märkisch-Oderland und den südlichen Barnim\, Kerstin Kühn\, ist auf dem Hoffest der LINKEN in Seelow zu Gast. \n
URL:http://wahlen.linke-blogs.de/event/hoefefest/
ATTACH;FMTTYPE=image/jpeg:http://wahlen.linke-blogs.de/wp-content/uploads/2017/06/2017_08_18-Hoffest-Seelow.jpg
END:VEVENT
END:VCALENDAR