BEGIN:VCALENDAR
VERSION:2.0
PRODID:-//SOZIAL. GERECHT. FÜR ALLE. - ECPv4.6.14.1//NONSGML v1.0//EN
CALSCALE:GREGORIAN
METHOD:PUBLISH
X-WR-CALNAME:SOZIAL. GERECHT. FÜR ALLE.
X-ORIGINAL-URL:http://wahlen.linke-blogs.de
X-WR-CALDESC:Veranstaltungen für SOZIAL. GERECHT. FÜR ALLE.
BEGIN:VEVENT
DTSTART;VALUE=DATE:20170825
DTEND;VALUE=DATE:20170828
DTSTAMP:20260422T054111
CREATED:20170623T094505Z
LAST-MODIFIED:20170823T151049Z
UID:263-1503619200-1503878399@wahlen.linke-blogs.de
SUMMARY:Höfefest (Altstadtsommer) Bad Belzig
DESCRIPTION:Bereits zum fünften Mal in Folge bietet die LINKE zum Altstadtsommer in Bad Belzig auf ihrem eigenen Hof ein abwechslungsreiches Programm an. Neben Livebands verschiedenster Musikrichtungen und leckerem Essen gibt es auch politische Gespräche anlässlich der anstehenden Bundestagswahl. \nPROGRAMM:\nFreitag\, 25. August 2017\n18:00-20:00 Uhr  Musik: Abbruch\n20:30-22:00 Uhr  Musik: Jagdschein \nSamstag\, 26. August 2017\n14:00-15:30 Uhr Musik & Stand: Cuba Sí\n15:30-17:00 Uhr  Musik: Gruppe “Manifest” mit Harald Petzold MdB\, Direktkandidat für Oberhavel und das östliche Havelland\n17:00-19:30 Uhr  Musik: Thomas Rottenbücher\n20.00-22:00 Uhr  Musik: Lari und die Pausenmusik \nSonntag\, 27. August 2016\nPolitischer Frühschoppen\n11:00-12:00 Uhr Thema: Bundestagswahl (mit den Direktandidat*innen Anke Domscheit-Berg und Norbert Müller)\n12:00-13:00 Uhr Thema: Kommunalpolitik\nMusikalisches Rahmenprogramm: Harald Wandel\n13.30-15:00 Uhr Buchlesung & Gespräch: Gesine Lötzsch\n15:00-17:00 Uhr Musik: The Artcores \nAußerdem:\n• Infostände von LINKE und von Partner*innen • Lesung • Politischer Frühschoppen • Möglichkeiten für politische Gespräche • Bücherkiste • Beschäftigung für Kinder • Bad Belziger Burgbräu\, hausgemachte Sommer-Bowle\, Rotweinstand \nSiehe auch: www.altstadtsommer.com \n
URL:http://wahlen.linke-blogs.de/event/hoefefest-2/
LOCATION:Magdeburger Str. 22\, Bad Belzig\, 14806\, Deutschland
END:VEVENT
END:VCALENDAR