BEGIN:VCALENDAR
VERSION:2.0
PRODID:-//SOZIAL. GERECHT. FÜR ALLE. - ECPv4.6.14.1//NONSGML v1.0//EN
CALSCALE:GREGORIAN
METHOD:PUBLISH
X-WR-CALNAME:SOZIAL. GERECHT. FÜR ALLE.
X-ORIGINAL-URL:http://wahlen.linke-blogs.de
X-WR-CALDESC:Veranstaltungen für SOZIAL. GERECHT. FÜR ALLE.
BEGIN:VEVENT
DTSTART;TZID=Europe/Berlin:20170903T150000
DTEND;TZID=Europe/Berlin:20170903T160000
DTSTAMP:20260422T102811
CREATED:20170823T154112Z
LAST-MODIFIED:20170823T154457Z
UID:1329-1504450800-1504454400@wahlen.linke-blogs.de
SUMMARY:Grillen mit der LINKEN Wustermark
DESCRIPTION:… mit dem LINKEN Direktkandidaten für Oberhavel und das östliche Havelland\, Harald Petzold MdB \n
URL:http://wahlen.linke-blogs.de/event/grillen-mit-der-linken-wustermark/
LOCATION:Karl-Liebknecht-Platz 2e\, Wustermark OT Elstal\, 14641\, Deutschland
END:VEVENT
END:VCALENDAR