BEGIN:VCALENDAR
VERSION:2.0
PRODID:-//SOZIAL. GERECHT. FÜR ALLE. - ECPv4.6.14.1//NONSGML v1.0//EN
CALSCALE:GREGORIAN
METHOD:PUBLISH
X-WR-CALNAME:SOZIAL. GERECHT. FÜR ALLE.
X-ORIGINAL-URL:http://wahlen.linke-blogs.de
X-WR-CALDESC:Veranstaltungen für SOZIAL. GERECHT. FÜR ALLE.
BEGIN:VEVENT
DTSTART;TZID=Europe/Berlin:20170909T140000
DTEND;TZID=Europe/Berlin:20170909T140000
DTSTAMP:20260422T103102
CREATED:20170413T113546Z
LAST-MODIFIED:20170906T140806Z
UID:223-1504965600-1504965600@wahlen.linke-blogs.de
SUMMARY:Friedensfest in Strausberg
DESCRIPTION:PROGRAMM \n14.00 Uhr Eröffnung mit dem Fanfarenzug & Christian Görke\, Landesvorsitzender \n14.30 Uhr Leona Heine & Friends mit Akustikgitarre und ausdrucksstarker Stimme gegen alle Schwarzmaler*innen dieser Welt \n15.15 Uhr Talk: “Nein zum Krieg!” – Für ein demokratisches und gerechtes Europa\nMit Jan van Aken MdB & Thomas Nord MdB \n15.45 Uhr “Dummerland – oder was weiß ich denn?”\, Kabarett mit Lothar Bölck\nOrt: Kuhstall \n16.30 Uhr Talk: “Sozial. Gerecht. Für alle.”\nMit Kerstin Kühn (Direktkandidatin im Wahlkreis 59) & Kirsten Tackmann MdB \n17.00 Uhr Big Band der Humboldt-Universität: Swing\, Latin-Rhythmen\, cooler Funk \n18.30 Uhr Film: “Der junge Karl Marx“ (F\, D\, B 2017) \n
URL:http://wahlen.linke-blogs.de/event/friedensfest-in-strausberg/
LOCATION:Prötzeler Chaussee 7\, Strausberg\, 15344\, Deutschland
ATTACH;FMTTYPE=image/jpeg:http://wahlen.linke-blogs.de/wp-content/uploads/2017/04/Friedensfest-Strausberg_Entwurf_3-e1503491082988.jpg
END:VEVENT
END:VCALENDAR