BEGIN:VCALENDAR
VERSION:2.0
PRODID:-//SOZIAL. GERECHT. FÜR ALLE. - ECPv4.6.14.1//NONSGML v1.0//EN
CALSCALE:GREGORIAN
METHOD:PUBLISH
X-WR-CALNAME:SOZIAL. GERECHT. FÜR ALLE.
X-ORIGINAL-URL:http://wahlen.linke-blogs.de
X-WR-CALDESC:Veranstaltungen für SOZIAL. GERECHT. FÜR ALLE.
BEGIN:VEVENT
DTSTART;TZID=Europe/Berlin:20170912T180000
DTEND;TZID=Europe/Berlin:20170912T180000
DTSTAMP:20260424T121109
CREATED:20170906T131808Z
LAST-MODIFIED:20170906T131831Z
UID:1528-1505239200-1505239200@wahlen.linke-blogs.de
SUMMARY:Frauenzentrum im Gespräch
DESCRIPTION:Diskussion zur Bundestagswahl über frauen- und gleichstellungspolitische Themen\, u. a. mit Norbert Müller\, dem LINKEN Direktkandidaten für Potsdam und den östlichen Teil des Landkreises Potsdam-Mittelmark \n
URL:http://wahlen.linke-blogs.de/event/frauenzentrum-im-gespraech/
LOCATION:Schiffbauergasse 4H\, Potsdam\, 14467\, Deutschland
END:VEVENT
END:VCALENDAR