BEGIN:VCALENDAR
VERSION:2.0
PRODID:-//SOZIAL. GERECHT. FÜR ALLE. - ECPv4.6.14.1//NONSGML v1.0//EN
CALSCALE:GREGORIAN
METHOD:PUBLISH
X-WR-CALNAME:SOZIAL. GERECHT. FÜR ALLE.
X-ORIGINAL-URL:http://wahlen.linke-blogs.de
X-WR-CALDESC:Veranstaltungen für SOZIAL. GERECHT. FÜR ALLE.
BEGIN:VEVENT
DTSTART;TZID=Europe/Berlin:20170908T180000
DTEND;TZID=Europe/Berlin:20170908T200000
DTSTAMP:20260422T101326
CREATED:20170908T114455Z
LAST-MODIFIED:20170908T114455Z
UID:1650-1504893600-1504900800@wahlen.linke-blogs.de
SUMMARY:Forum/Vortrag „Die Zukunft der Arbeit“
DESCRIPTION:mit Anke Domscheit-Berg\, anschließend gemeinsamer Dialog mit Kerstin Kühn und öffentliche Debatte \n
URL:http://wahlen.linke-blogs.de/event/forumvortrag-die-zukunft-der-arbeit/
LOCATION:Eberswalder Straße 84\, Leibnitz-Zentrum\, 15374
END:VEVENT
END:VCALENDAR