BEGIN:VCALENDAR
VERSION:2.0
PRODID:-//SOZIAL. GERECHT. FÜR ALLE. - ECPv4.6.14.1//NONSGML v1.0//EN
CALSCALE:GREGORIAN
METHOD:PUBLISH
X-WR-CALNAME:SOZIAL. GERECHT. FÜR ALLE.
X-ORIGINAL-URL:http://wahlen.linke-blogs.de
X-WR-CALDESC:Veranstaltungen für SOZIAL. GERECHT. FÜR ALLE.
BEGIN:VEVENT
DTSTART;TZID=Europe/Berlin:20170825T180000
DTEND;TZID=Europe/Berlin:20170825T200000
DTSTAMP:20260422T073052
CREATED:20170814T171030Z
LAST-MODIFIED:20170818T144359Z
UID:989-1503684000-1503691200@wahlen.linke-blogs.de
SUMMARY:DIE LINKE und Europa – Diskussion zum Wahlprogramm
DESCRIPTION:Gemeinsam mit Carsten Preuß\, dem LINKEN Direktkandidaten für Dahme-Spreewald\, den östlichen Teltow-Fläming und den nördlichen Teil des Landkreises Oberspreewald-Lausitz\, wird sich der Europaparlamentarier Helmut Scholz über das Bundestagswahlprogramm der Partei DIE LINKE unterhalten. Insbesondere soll ein Blick auf das Europakapitel geworfen werden. \n
URL:http://wahlen.linke-blogs.de/event/europa-und-die-linke-diskussion-zum-wahlprogramm/
LOCATION:Goethestr. 26b\, Zeuthen\, 15738\, Deutschland
END:VEVENT
END:VCALENDAR