BEGIN:VCALENDAR
VERSION:2.0
PRODID:-//SOZIAL. GERECHT. FÜR ALLE. - ECPv4.6.14.1//NONSGML v1.0//EN
CALSCALE:GREGORIAN
METHOD:PUBLISH
X-WR-CALNAME:SOZIAL. GERECHT. FÜR ALLE.
X-ORIGINAL-URL:http://wahlen.linke-blogs.de
X-WR-CALDESC:Veranstaltungen für SOZIAL. GERECHT. FÜR ALLE.
BEGIN:VEVENT
DTSTART;TZID=Europe/Berlin:20170822T180000
DTEND;TZID=Europe/Berlin:20170822T210000
DTSTAMP:20260422T122852
CREATED:20170802T120902Z
LAST-MODIFIED:20170818T164330Z
UID:682-1503424800-1503435600@wahlen.linke-blogs.de
SUMMARY:"Die Waffen nieder!" - Vortrag mit Jan van Aken
DESCRIPTION:Der LINKE Bundestagsabgeordnete Jan van Aken ist Mitglied im Auswärtigen Ausschuss und des Unterausschusses “Abrüstung\, Rüstungskontrolle und Nichtverbreitung” und ehemaliger Biowaffeninspekteur für die Vereinten Nationen. Im Hof des Lothar-Bisky-Hauses referiert er am 22. August 2017\, 18 Uhr darüber\, wie – nicht nur deutsche – Waffenexporte und die eskalierenden Konflikte in der Welt zusammenhängen. Moderation: Prof. Dr. Jürgen Angelow. \n
URL:http://wahlen.linke-blogs.de/event/die-waffen-nieder-vortrag-mit-jan-van-aken/
LOCATION:Alleestr. 3\, Potsdam\, 14469\, Deutschland
ATTACH;FMTTYPE=image/jpeg:http://wahlen.linke-blogs.de/wp-content/uploads/2017/08/2017-08-22-Jan-van-Aken-e1503074601787.jpg
ORGANIZER;CN="DIE%20LINKE.%20Brandenburg":MAILTO:info@dielinke-brandenburg.de
END:VEVENT
END:VCALENDAR