BEGIN:VCALENDAR
VERSION:2.0
PRODID:-//SOZIAL. GERECHT. FÜR ALLE. - ECPv4.6.14.1//NONSGML v1.0//EN
CALSCALE:GREGORIAN
METHOD:PUBLISH
X-WR-CALNAME:SOZIAL. GERECHT. FÜR ALLE.
X-ORIGINAL-URL:http://wahlen.linke-blogs.de
X-WR-CALDESC:Veranstaltungen für SOZIAL. GERECHT. FÜR ALLE.
BEGIN:VEVENT
DTSTART;TZID=Europe/Berlin:20170830T180000
DTEND;TZID=Europe/Berlin:20170830T180000
DTSTAMP:20260422T104447
CREATED:20170815T175514Z
LAST-MODIFIED:20170815T175606Z
UID:1109-1504116000-1504116000@wahlen.linke-blogs.de
SUMMARY:DGB-Wahlforum in Strausberg
DESCRIPTION:Wahlforum zur Bundestagswahl des DGB Kreisverbandes Märkisch-Oderland\, u. a. mit Kerstin Kühn\, LINKE Direktkandidatin für Märkisch-Oderland und den südlichen Barnim \n
URL:http://wahlen.linke-blogs.de/event/dgb-wahlforum-in-strausberg/
LOCATION:Peter-Göring-Str. 24\, Strausberg\, 15344\, Deutschland
ATTACH;FMTTYPE=image/jpeg:http://wahlen.linke-blogs.de/wp-content/uploads/2017/08/2017_08_30-Strausberg-Wahlforum-DGB-e1502819760408.jpg
END:VEVENT
END:VCALENDAR