BEGIN:VCALENDAR
VERSION:2.0
PRODID:-//SOZIAL. GERECHT. FÜR ALLE. - ECPv4.6.14.1//NONSGML v1.0//EN
CALSCALE:GREGORIAN
METHOD:PUBLISH
X-WR-CALNAME:SOZIAL. GERECHT. FÜR ALLE.
X-ORIGINAL-URL:http://wahlen.linke-blogs.de
X-WR-CALDESC:Veranstaltungen für SOZIAL. GERECHT. FÜR ALLE.
BEGIN:VEVENT
DTSTART;TZID=Europe/Berlin:20170906T180000
DTEND;TZID=Europe/Berlin:20170906T210000
DTSTAMP:20260422T072729
CREATED:20170802T132345Z
LAST-MODIFIED:20170831T103404Z
UID:696-1504720800-1504731600@wahlen.linke-blogs.de
SUMMARY:"Das wilde Kurdistan" - Ein Reisebericht mit Bildern
DESCRIPTION:Die LINKE Landtagsabgeordnete Andrea Johlige und unser Bundestagskandidat für die Uckermark und Nordbarnim\, Andreas Büttner\, waren Ende Juli im Nordirak und haben dort die Autonome Region Kurdistan besucht. Sie waren in den Städten Erbil\, Dohuk\, Lalisch und Alkosh zu Gast. Viele Gespräche\, Besuche in Flüchtlingscamps und zahlreiche weitere Stationen standen auf dem Programm. Vor allem haben sie sich vor Ort über die Situation der Minderheiten informiert und Projekte besucht\, die sie von Deutschland aus unterstützen wollen. \n
URL:http://wahlen.linke-blogs.de/event/das-wilde-kurdistan-ein-reisebericht-mit-bildern/
LOCATION:Alleestr. 3\, Potsdam\, 14469\, Deutschland
ORGANIZER;CN="DIE%20LINKE.%20Brandenburg":MAILTO:info@dielinke-brandenburg.de
END:VEVENT
END:VCALENDAR