BEGIN:VCALENDAR
VERSION:2.0
PRODID:-//SOZIAL. GERECHT. FÜR ALLE. - ECPv4.6.14.1//NONSGML v1.0//EN
CALSCALE:GREGORIAN
METHOD:PUBLISH
X-WR-CALNAME:SOZIAL. GERECHT. FÜR ALLE.
X-ORIGINAL-URL:http://wahlen.linke-blogs.de
X-WR-CALDESC:Veranstaltungen für SOZIAL. GERECHT. FÜR ALLE.
BEGIN:VEVENT
DTSTART;TZID=Europe/Berlin:20170701T090000
DTEND;TZID=Europe/Berlin:20170701T110000
DTSTAMP:20260422T141236
CREATED:20170629T182922Z
LAST-MODIFIED:20170630T135209Z
UID:480-1498899600-1498906800@wahlen.linke-blogs.de
SUMMARY:Bürger*innen fragen Anke Domscheit-Berg + Norbert Müller MdB
DESCRIPTION:Anke Domscheit-Berg  und Norbert Müller MdB stellen sich am 1. Juli 2017 im Gemeindezentrum „Zum Apfelbaum“ in Michendorf den Fragen der Bürger*innen. Sie können am 1. Juli 2017 in Michendorf gleich zwei Bundestagskandidat/innen der LINKEN direkt befragen\, die für den Landkreis Potsdam-Mittelmark und daran angrenzende Bereiche des Landkreises Havelland\, der Stadt Brandenburg und der Stadt Potsdam kandidieren. Alle Bürger*innen der Region sind herzlich eingeladen. \n
URL:http://wahlen.linke-blogs.de/event/buergerinnen-fragen-anke-domscheit-berg-norbert-mueller-mdb/
LOCATION:Potsdamer Str. 64\, Michendorf\, 14552\, Deutschland
END:VEVENT
END:VCALENDAR