BEGIN:VCALENDAR
VERSION:2.0
PRODID:-//SOZIAL. GERECHT. FÜR ALLE. - ECPv4.6.14.1//NONSGML v1.0//EN
CALSCALE:GREGORIAN
METHOD:PUBLISH
X-WR-CALNAME:SOZIAL. GERECHT. FÜR ALLE.
X-ORIGINAL-URL:http://wahlen.linke-blogs.de
X-WR-CALDESC:Veranstaltungen für SOZIAL. GERECHT. FÜR ALLE.
BEGIN:VEVENT
DTSTART;TZID=Europe/Berlin:20170908T100000
DTEND;TZID=Europe/Berlin:20170908T160000
DTSTAMP:20260422T090115
CREATED:20170802T132652Z
LAST-MODIFIED:20170818T151047Z
UID:699-1504864800-1504886400@wahlen.linke-blogs.de
SUMMARY:Bücher suchen Bücher – Buchbasar
DESCRIPTION:Im Hof des Lothar-Bisky-Hauses in der Alleestr. 3 in Potsdam suchen einen Tag lang Bücher ein neues Zuhause. In der Zeit von 10 bis 16 Uhr wird auf dem Hof ein riesiger Buchstand aufgebaut\, der auch durch Eure Bücher bereichert werden darf. \n
URL:http://wahlen.linke-blogs.de/event/buchbasar/
LOCATION:Alleestr. 3\, Potsdam\, 14469\, Deutschland
ATTACH;FMTTYPE=image/jpeg:http://wahlen.linke-blogs.de/wp-content/uploads/2017/08/2017-09-08-Buchbasar-e1502791732365.jpg
ORGANIZER;CN="DIE%20LINKE.%20Brandenburg":MAILTO:info@dielinke-brandenburg.de
END:VEVENT
END:VCALENDAR