BEGIN:VCALENDAR
VERSION:2.0
PRODID:-//SOZIAL. GERECHT. FÜR ALLE. - ECPv4.6.14.1//NONSGML v1.0//EN
CALSCALE:GREGORIAN
METHOD:PUBLISH
X-WR-CALNAME:SOZIAL. GERECHT. FÜR ALLE.
X-ORIGINAL-URL:http://wahlen.linke-blogs.de
X-WR-CALDESC:Veranstaltungen für SOZIAL. GERECHT. FÜR ALLE.
BEGIN:VEVENT
DTSTART;TZID=Europe/Berlin:20170905T150000
DTEND;TZID=Europe/Berlin:20170905T173000
DTSTAMP:20260422T090811
CREATED:20170823T171045Z
LAST-MODIFIED:20170823T171415Z
UID:1357-1504623600-1504632600@wahlen.linke-blogs.de
SUMMARY:Bernd Riexinger in Brandenburg/Havel
DESCRIPTION:U. a. mit: \n\ndem Partivorsitzenden der LINKEN\, Bernd Riexinger\,\nAnke Domscheit-Berg\, LINKE Direktkandidatin für Brandenburg an der Havel\, Potsdam-Mittelmark\, das südliche Havelland\, und den westlichen Teil des Landkreises Teltow-Fläming\,\nLive-Musik\,\nund Popcorn.\n\n
URL:http://wahlen.linke-blogs.de/event/bernd-riexinger-in-brandenburghavel/
LOCATION:Brandenburg an der Havel\, 14770\, Deutschland
ATTACH;FMTTYPE=image/jpeg:http://wahlen.linke-blogs.de/wp-content/uploads/2017/08/Riexinger-in-Brandenburg-e1503508266476.jpg
END:VEVENT
END:VCALENDAR