BEGIN:VCALENDAR
VERSION:2.0
PRODID:-//SOZIAL. GERECHT. FÜR ALLE. - ECPv4.6.14.1//NONSGML v1.0//EN
CALSCALE:GREGORIAN
METHOD:PUBLISH
X-WR-CALNAME:SOZIAL. GERECHT. FÜR ALLE.
X-ORIGINAL-URL:http://wahlen.linke-blogs.de
X-WR-CALDESC:Veranstaltungen für SOZIAL. GERECHT. FÜR ALLE.
BEGIN:VEVENT
DTSTART;TZID=Europe/Berlin:20170826T153000
DTEND;TZID=Europe/Berlin:20170826T170000
DTSTAMP:20260422T053530
CREATED:20170823T151701Z
LAST-MODIFIED:20170823T151701Z
UID:1321-1503761400-1503766800@wahlen.linke-blogs.de
SUMMARY:Altstadtsommer Bad Belzig: Auftritt der Gruppe "Manifest"
DESCRIPTION:Konzert der Gruppe “Manifest” auf dem Hof der LINKEN in Bad Belzig\, u. a. mit dem Direktkandidaten Harald Petzold. Zum kompletten Programm auf dem Hof der LINKEN vom 25. bis zum 27. August 2017 geht’s hier lang. \n
URL:http://wahlen.linke-blogs.de/event/altstadtsommer-bad-belzig-auftritt-der-gruppe-manifest/
LOCATION:Magdeburger Str. 22\, Bad Belzig\, 14806\, Deutschland
END:VEVENT
END:VCALENDAR