BEGIN:VCALENDAR
VERSION:2.0
PRODID:-//SOZIAL. GERECHT. FÜR ALLE. - ECPv4.6.14.1//NONSGML v1.0//EN
CALSCALE:GREGORIAN
METHOD:PUBLISH
X-WR-CALNAME:SOZIAL. GERECHT. FÜR ALLE.
X-ORIGINAL-URL:http://wahlen.linke-blogs.de
X-WR-CALDESC:Veranstaltungen für SOZIAL. GERECHT. FÜR ALLE.
BEGIN:VEVENT
DTSTART;VALUE=DATE:20170917
DTEND;VALUE=DATE:20170918
DTSTAMP:20260422T113251
CREATED:20170906T141928Z
LAST-MODIFIED:20170906T141942Z
UID:1563-1505606400-1505692799@wahlen.linke-blogs.de
SUMMARY:11. Eberswalder Stadtlauf
DESCRIPTION:Unser Direktkandidat im Wahlkreis 57\, Andreas Büttner\, nimmt am 11. Eberswalder Stadtlauf teil \n
URL:http://wahlen.linke-blogs.de/event/11-eberswalder-stadtlauf/
LOCATION:Deutschland
END:VEVENT
END:VCALENDAR