BEGIN:VCALENDAR
VERSION:2.0
PRODID:-//SOZIAL. GERECHT. FÜR ALLE. - ECPv4.6.14.1//NONSGML v1.0//EN
CALSCALE:GREGORIAN
METHOD:PUBLISH
X-WR-CALNAME:SOZIAL. GERECHT. FÜR ALLE.
X-ORIGINAL-URL:http://wahlen.linke-blogs.de
X-WR-CALDESC:Veranstaltungen für SOZIAL. GERECHT. FÜR ALLE.
BEGIN:VEVENT
DTSTART;TZID=Europe/Berlin:20170909T100000
DTEND;TZID=Europe/Berlin:20170909T100000
DTSTAMP:20260422T100437
CREATED:20170830T132234Z
LAST-MODIFIED:20170830T132257Z
UID:1458-1504951200-1504951200@wahlen.linke-blogs.de
SUMMARY:10. Oderland Friedensforum
DESCRIPTION:mit Thomas Nord MdB\, LINKER Direktkandidat für Frankfurt (Oder) und den Landkreis Oder-Spree \n
URL:http://wahlen.linke-blogs.de/event/10-oderland-friedensforum/
LOCATION:Lindenallee 30\, Eisenhüttenstadt\, 15890\, Deutschland
END:VEVENT
END:VCALENDAR